BEGIN:VCALENDAR
VERSION:2.0
PRODID:-//Salem School District - ECPv6.15.18//NONSGML v1.0//EN
CALSCALE:GREGORIAN
METHOD:PUBLISH
X-ORIGINAL-URL:https://salemk12.org
X-WR-CALDESC:Events for Salem School District
REFRESH-INTERVAL;VALUE=DURATION:PT1H
X-Robots-Tag:noindex
X-PUBLISHED-TTL:PT1H
BEGIN:VTIMEZONE
TZID:America/New_York
BEGIN:DAYLIGHT
TZOFFSETFROM:-0500
TZOFFSETTO:-0400
TZNAME:EDT
DTSTART:20210314T070000
END:DAYLIGHT
BEGIN:STANDARD
TZOFFSETFROM:-0400
TZOFFSETTO:-0500
TZNAME:EST
DTSTART:20211107T060000
END:STANDARD
BEGIN:DAYLIGHT
TZOFFSETFROM:-0500
TZOFFSETTO:-0400
TZNAME:EDT
DTSTART:20220313T070000
END:DAYLIGHT
BEGIN:STANDARD
TZOFFSETFROM:-0400
TZOFFSETTO:-0500
TZNAME:EST
DTSTART:20221106T060000
END:STANDARD
BEGIN:DAYLIGHT
TZOFFSETFROM:-0500
TZOFFSETTO:-0400
TZNAME:EDT
DTSTART:20230312T070000
END:DAYLIGHT
BEGIN:STANDARD
TZOFFSETFROM:-0400
TZOFFSETTO:-0500
TZNAME:EST
DTSTART:20231105T060000
END:STANDARD
END:VTIMEZONE
BEGIN:VEVENT
DTSTART;VALUE=DATE:20220530
DTEND;VALUE=DATE:20220531
DTSTAMP:20260425T114944
CREATED:20211209T194718Z
LAST-MODIFIED:20220530T212309Z
UID:2831-1653868800-1653955199@salemk12.org
SUMMARY:Memorial Day
DESCRIPTION:
URL:https://salemk12.org/event/memorial-day/
CATEGORIES:Salem Prep High School
END:VEVENT
BEGIN:VEVENT
DTSTART;VALUE=DATE:20220530
DTEND;VALUE=DATE:20220531
DTSTAMP:20260425T114944
CREATED:20211209T195119Z
LAST-MODIFIED:20220530T230813Z
UID:2846-1653868800-1653955199@salemk12.org
SUMMARY:No school Memorial Day
DESCRIPTION:
URL:https://salemk12.org/event/no-school-memorial-day/
CATEGORIES:Saltonstall School
END:VEVENT
BEGIN:VEVENT
DTSTART;VALUE=DATE:20220530
DTEND;VALUE=DATE:20220531
DTSTAMP:20260425T114944
CREATED:20211215T183837Z
LAST-MODIFIED:20220530T175321Z
UID:3135-1653868800-1653955199@salemk12.org
SUMMARY:No School - Memorial Day
DESCRIPTION:
URL:https://salemk12.org/event/no-school-memorial-day-2/
CATEGORIES:Bates School
END:VEVENT
BEGIN:VEVENT
DTSTART;VALUE=DATE:20220530
DTEND;VALUE=DATE:20220531
DTSTAMP:20260425T114944
CREATED:20211216T200828Z
LAST-MODIFIED:20220525T230813Z
UID:3372-1653868800-1653955199@salemk12.org
SUMMARY:Memorial Day-No School
DESCRIPTION:
URL:https://salemk12.org/event/memorial-day-no-school/
CATEGORIES:Witchcraft Heights Elementary School
END:VEVENT
BEGIN:VEVENT
DTSTART;VALUE=DATE:20220530
DTEND;VALUE=DATE:20220531
DTSTAMP:20260425T114944
CREATED:20220523T223821Z
LAST-MODIFIED:20220530T225335Z
UID:7514-1653868800-1653955199@salemk12.org
SUMMARY:Memorial Day (No School)
DESCRIPTION:
URL:https://salemk12.org/event/memorial-day-no-school-2/
CATEGORIES:Salem High School
END:VEVENT
BEGIN:VEVENT
DTSTART;VALUE=DATE:20220530
DTEND;VALUE=DATE:20220531
DTSTAMP:20260425T114944
CREATED:20220526T232413Z
LAST-MODIFIED:20220530T233808Z
UID:7611-1653868800-1653955199@salemk12.org
SUMMARY:Memorial Day-No School
DESCRIPTION:
URL:https://salemk12.org/event/memorial-day-no-school-3/
CATEGORIES:Witchcraft Heights Elementary School
END:VEVENT
END:VCALENDAR