BEGIN:VCALENDAR
VERSION:2.0
PRODID:-//Salem School District - ECPv6.15.18//NONSGML v1.0//EN
CALSCALE:GREGORIAN
METHOD:PUBLISH
X-ORIGINAL-URL:https://salemk12.org
X-WR-CALDESC:Events for Salem School District
REFRESH-INTERVAL;VALUE=DURATION:PT1H
X-Robots-Tag:noindex
X-PUBLISHED-TTL:PT1H
BEGIN:VTIMEZONE
TZID:America/New_York
BEGIN:DAYLIGHT
TZOFFSETFROM:-0500
TZOFFSETTO:-0400
TZNAME:EDT
DTSTART:20210314T070000
END:DAYLIGHT
BEGIN:STANDARD
TZOFFSETFROM:-0400
TZOFFSETTO:-0500
TZNAME:EST
DTSTART:20211107T060000
END:STANDARD
BEGIN:DAYLIGHT
TZOFFSETFROM:-0500
TZOFFSETTO:-0400
TZNAME:EDT
DTSTART:20220313T070000
END:DAYLIGHT
BEGIN:STANDARD
TZOFFSETFROM:-0400
TZOFFSETTO:-0500
TZNAME:EST
DTSTART:20221106T060000
END:STANDARD
BEGIN:DAYLIGHT
TZOFFSETFROM:-0500
TZOFFSETTO:-0400
TZNAME:EDT
DTSTART:20230312T070000
END:DAYLIGHT
BEGIN:STANDARD
TZOFFSETFROM:-0400
TZOFFSETTO:-0500
TZNAME:EST
DTSTART:20231105T060000
END:STANDARD
END:VTIMEZONE
BEGIN:VEVENT
DTSTART;VALUE=DATE:20220531
DTEND;VALUE=DATE:20220601
DTSTAMP:20260425T114943
CREATED:20220410T210836Z
LAST-MODIFIED:20220531T225318Z
UID:6662-1653955200-1654041599@salemk12.org
SUMMARY:Graduation Rehearsal & Brunch
DESCRIPTION:
URL:https://salemk12.org/event/graduation-rehearsal-2/
CATEGORIES:Salem High School
END:VEVENT
BEGIN:VEVENT
DTSTART;VALUE=DATE:20220531
DTEND;VALUE=DATE:20220601
DTSTAMP:20260425T114943
CREATED:20220523T223821Z
LAST-MODIFIED:20220531T225318Z
UID:7515-1653955200-1654041599@salemk12.org
SUMMARY:Sr. Movie Night
DESCRIPTION:
URL:https://salemk12.org/event/sr-movie-night/
CATEGORIES:Salem High School
END:VEVENT
BEGIN:VEVENT
DTSTART;VALUE=DATE:20220531
DTEND;VALUE=DATE:20220604
DTSTAMP:20260425T114943
CREATED:20220410T210836Z
LAST-MODIFIED:20220603T225331Z
UID:6661-1653955200-1654300799@salemk12.org
SUMMARY:Senior Week
DESCRIPTION:
URL:https://salemk12.org/event/senior-week/
CATEGORIES:Salem High School
END:VEVENT
BEGIN:VEVENT
DTSTART;TZID=America/New_York:20220531T170000
DTEND;TZID=America/New_York:20220531T190000
DTSTAMP:20260425T114943
CREATED:20220330T223832Z
LAST-MODIFIED:20220531T175317Z
UID:6274-1654016400-1654023600@salemk12.org
SUMMARY:Bates Showcase
DESCRIPTION:
URL:https://salemk12.org/event/bates-showcase/
CATEGORIES:Bates School
END:VEVENT
BEGIN:VEVENT
DTSTART;TZID=America/New_York:20220531T180000
DTEND;TZID=America/New_York:20220531T193000
DTSTAMP:20260425T114943
CREATED:20220331T212411Z
LAST-MODIFIED:20220531T230806Z
UID:6336-1654020000-1654025400@salemk12.org
SUMMARY:National Junior Honor Society Ceremony
DESCRIPTION:
URL:https://salemk12.org/event/national-junior-honor-society-ceremony/
CATEGORIES:Collins Middle School
END:VEVENT
END:VCALENDAR