BEGIN:VCALENDAR
VERSION:2.0
PRODID:-//Salem School District - ECPv6.15.18//NONSGML v1.0//EN
CALSCALE:GREGORIAN
METHOD:PUBLISH
X-WR-CALNAME:Salem School District
X-ORIGINAL-URL:https://salemk12.org
X-WR-CALDESC:Events for Salem School District
REFRESH-INTERVAL;VALUE=DURATION:PT1H
X-Robots-Tag:noindex
X-PUBLISHED-TTL:PT1H
BEGIN:VTIMEZONE
TZID:America/New_York
BEGIN:DAYLIGHT
TZOFFSETFROM:-0500
TZOFFSETTO:-0400
TZNAME:EDT
DTSTART:20210314T070000
END:DAYLIGHT
BEGIN:STANDARD
TZOFFSETFROM:-0400
TZOFFSETTO:-0500
TZNAME:EST
DTSTART:20211107T060000
END:STANDARD
BEGIN:DAYLIGHT
TZOFFSETFROM:-0500
TZOFFSETTO:-0400
TZNAME:EDT
DTSTART:20220313T070000
END:DAYLIGHT
BEGIN:STANDARD
TZOFFSETFROM:-0400
TZOFFSETTO:-0500
TZNAME:EST
DTSTART:20221106T060000
END:STANDARD
BEGIN:DAYLIGHT
TZOFFSETFROM:-0500
TZOFFSETTO:-0400
TZNAME:EDT
DTSTART:20230312T070000
END:DAYLIGHT
BEGIN:STANDARD
TZOFFSETFROM:-0400
TZOFFSETTO:-0500
TZNAME:EST
DTSTART:20231105T060000
END:STANDARD
END:VTIMEZONE
BEGIN:VEVENT
DTSTART;VALUE=DATE:20220531
DTEND;VALUE=DATE:20220604
DTSTAMP:20260425T114828
CREATED:20220410T210836Z
LAST-MODIFIED:20220603T225331Z
UID:6661-1653955200-1654300799@salemk12.org
SUMMARY:Senior Week
DESCRIPTION:
URL:https://salemk12.org/event/senior-week/
CATEGORIES:Salem High School
END:VEVENT
BEGIN:VEVENT
DTSTART;VALUE=DATE:20220602
DTEND;VALUE=DATE:20220603
DTSTAMP:20260425T114828
CREATED:20220401T212352Z
LAST-MODIFIED:20220602T233807Z
UID:6416-1654128000-1654214399@salemk12.org
SUMMARY:Borek/Fee 5th grade trip to Appleton Farms
DESCRIPTION:
URL:https://salemk12.org/event/borek-fee-5th-grade-trip-to-appleton-farms/
CATEGORIES:Witchcraft Heights Elementary School
END:VEVENT
BEGIN:VEVENT
DTSTART;VALUE=DATE:20220602
DTEND;VALUE=DATE:20220603
DTSTAMP:20260425T114828
CREATED:20220410T210836Z
LAST-MODIFIED:20220602T225316Z
UID:6659-1654128000-1654214399@salemk12.org
SUMMARY:Graduation Rehearsal
DESCRIPTION:
URL:https://salemk12.org/event/graduation-rehearsal/
CATEGORIES:Salem High School
END:VEVENT
BEGIN:VEVENT
DTSTART;VALUE=DATE:20220602
DTEND;VALUE=DATE:20220603
DTSTAMP:20260425T114828
CREATED:20220410T210836Z
LAST-MODIFIED:20220602T225316Z
UID:6660-1654128000-1654214399@salemk12.org
SUMMARY:Senior vs. Staff Softball/Cookout 3:30pm
DESCRIPTION:
URL:https://salemk12.org/event/senior-vs-staff-softball-cookout/
LOCATION:Castle Hill Park\, 14 Story Rd\, Salem\, MA 01970\, USA
CATEGORIES:Salem High School
END:VEVENT
BEGIN:VEVENT
DTSTART;TZID=America/New_York:20220602T170000
DTEND;TZID=America/New_York:20220602T180000
DTSTAMP:20260425T114828
CREATED:20220531T212304Z
LAST-MODIFIED:20220602T212317Z
UID:7691-1654189200-1654192800@salemk12.org
SUMMARY:Salem Prep Graduation at the PEM
DESCRIPTION:
URL:https://salemk12.org/event/salem-prep-graduation-at-the-pem/
CATEGORIES:Salem Prep High School
END:VEVENT
BEGIN:VEVENT
DTSTART;TZID=America/New_York:20220602T190000
DTEND;TZID=America/New_York:20220602T203000
DTSTAMP:20260425T114828
CREATED:20211130T221607Z
LAST-MODIFIED:20220602T203811Z
UID:2571-1654196400-1654201800@salemk12.org
SUMMARY:CMS Final Concert
DESCRIPTION:
URL:https://salemk12.org/event/cms-final-concert/
CATEGORIES:District
END:VEVENT
BEGIN:VEVENT
DTSTART;TZID=America/New_York:20220602T190000
DTEND;TZID=America/New_York:20220602T210000
DTSTAMP:20260425T114828
CREATED:20220331T212423Z
LAST-MODIFIED:20220602T230810Z
UID:6337-1654196400-1654203600@salemk12.org
SUMMARY:CMS Band Concert
DESCRIPTION:
URL:https://salemk12.org/event/cms-band-concert/
CATEGORIES:Collins Middle School
END:VEVENT
END:VCALENDAR