BEGIN:VCALENDAR
VERSION:2.0
PRODID:-//Salem School District - ECPv6.15.18//NONSGML v1.0//EN
CALSCALE:GREGORIAN
METHOD:PUBLISH
X-ORIGINAL-URL:https://salemk12.org
X-WR-CALDESC:Events for Salem School District
REFRESH-INTERVAL;VALUE=DURATION:PT1H
X-Robots-Tag:noindex
X-PUBLISHED-TTL:PT1H
BEGIN:VTIMEZONE
TZID:America/New_York
BEGIN:DAYLIGHT
TZOFFSETFROM:-0500
TZOFFSETTO:-0400
TZNAME:EDT
DTSTART:20210314T070000
END:DAYLIGHT
BEGIN:STANDARD
TZOFFSETFROM:-0400
TZOFFSETTO:-0500
TZNAME:EST
DTSTART:20211107T060000
END:STANDARD
BEGIN:DAYLIGHT
TZOFFSETFROM:-0500
TZOFFSETTO:-0400
TZNAME:EDT
DTSTART:20220313T070000
END:DAYLIGHT
BEGIN:STANDARD
TZOFFSETFROM:-0400
TZOFFSETTO:-0500
TZNAME:EST
DTSTART:20221106T060000
END:STANDARD
BEGIN:DAYLIGHT
TZOFFSETFROM:-0500
TZOFFSETTO:-0400
TZNAME:EDT
DTSTART:20230312T070000
END:DAYLIGHT
BEGIN:STANDARD
TZOFFSETFROM:-0400
TZOFFSETTO:-0500
TZNAME:EST
DTSTART:20231105T060000
END:STANDARD
END:VTIMEZONE
BEGIN:VEVENT
DTSTART;VALUE=DATE:20220531
DTEND;VALUE=DATE:20220604
DTSTAMP:20260425T114943
CREATED:20220410T210836Z
LAST-MODIFIED:20220603T225331Z
UID:6661-1653955200-1654300799@salemk12.org
SUMMARY:Senior Week
DESCRIPTION:
URL:https://salemk12.org/event/senior-week/
CATEGORIES:Salem High School
END:VEVENT
BEGIN:VEVENT
DTSTART;VALUE=DATE:20220603
DTEND;VALUE=DATE:20220604
DTSTAMP:20260425T114943
CREATED:20220401T212352Z
LAST-MODIFIED:20220603T233812Z
UID:6417-1654214400-1654300799@salemk12.org
SUMMARY:Milano/Kennedy 5th grade trip to Appleton Farms
DESCRIPTION:
URL:https://salemk12.org/event/milano-kennedy-5th-grade-trip-to-appleton-farms/
CATEGORIES:Witchcraft Heights Elementary School
END:VEVENT
BEGIN:VEVENT
DTSTART;VALUE=DATE:20220603
DTEND;VALUE=DATE:20220604
DTSTAMP:20260425T114943
CREATED:20220523T223834Z
LAST-MODIFIED:20220603T225331Z
UID:7520-1654214400-1654300799@salemk12.org
SUMMARY:Graduation @Salem Commons 6pm
DESCRIPTION:
URL:https://salemk12.org/event/graduation-salem-commons-6pm/
CATEGORIES:Salem High School
END:VEVENT
BEGIN:VEVENT
DTSTART;TZID=America/New_York:20220603T080000
DTEND;TZID=America/New_York:20220603T082000
DTSTAMP:20260425T114943
CREATED:20220601T183812Z
LAST-MODIFIED:20220602T183811Z
UID:7701-1654243200-1654244400@salemk12.org
SUMMARY:MCBA Challenge Honor Roll Assembly\, Grades 3-5
DESCRIPTION:
URL:https://salemk12.org/event/mcba-challenge-honor-roll-assembly-grades-3-5/
CATEGORIES:Horace Mann Laboratory School
END:VEVENT
BEGIN:VEVENT
DTSTART;TZID=America/New_York:20220603T180000
DTEND;TZID=America/New_York:20220603T200000
DTSTAMP:20260425T114943
CREATED:20220402T203812Z
LAST-MODIFIED:20220603T225331Z
UID:6431-1654279200-1654286400@salemk12.org
SUMMARY:SHS Graduation
DESCRIPTION:
URL:https://salemk12.org/event/shs-graduation/
LOCATION:Salem Common\, N Washington Square\, Salem\, MA 01970\, USA
CATEGORIES:Salem High School
END:VEVENT
END:VCALENDAR