BEGIN:VCALENDAR
VERSION:2.0
PRODID:-//Salem School District - ECPv6.15.18//NONSGML v1.0//EN
CALSCALE:GREGORIAN
METHOD:PUBLISH
X-ORIGINAL-URL:https://salemk12.org
X-WR-CALDESC:Events for Salem School District
REFRESH-INTERVAL;VALUE=DURATION:PT1H
X-Robots-Tag:noindex
X-PUBLISHED-TTL:PT1H
BEGIN:VTIMEZONE
TZID:America/New_York
BEGIN:DAYLIGHT
TZOFFSETFROM:-0500
TZOFFSETTO:-0400
TZNAME:EDT
DTSTART:20210314T070000
END:DAYLIGHT
BEGIN:STANDARD
TZOFFSETFROM:-0400
TZOFFSETTO:-0500
TZNAME:EST
DTSTART:20211107T060000
END:STANDARD
BEGIN:DAYLIGHT
TZOFFSETFROM:-0500
TZOFFSETTO:-0400
TZNAME:EDT
DTSTART:20220313T070000
END:DAYLIGHT
BEGIN:STANDARD
TZOFFSETFROM:-0400
TZOFFSETTO:-0500
TZNAME:EST
DTSTART:20221106T060000
END:STANDARD
BEGIN:DAYLIGHT
TZOFFSETFROM:-0500
TZOFFSETTO:-0400
TZNAME:EDT
DTSTART:20230312T070000
END:DAYLIGHT
BEGIN:STANDARD
TZOFFSETFROM:-0400
TZOFFSETTO:-0500
TZNAME:EST
DTSTART:20231105T060000
END:STANDARD
END:VTIMEZONE
BEGIN:VEVENT
DTSTART;VALUE=DATE:20220608
DTEND;VALUE=DATE:20220609
DTSTAMP:20260425T114946
CREATED:20220330T223844Z
LAST-MODIFIED:20220608T180812Z
UID:6277-1654646400-1654732799@salemk12.org
SUMMARY:3rd/4th Grade Field Day
DESCRIPTION:
URL:https://salemk12.org/event/3rd-4th-grade-field-day/
CATEGORIES:Bates School
END:VEVENT
BEGIN:VEVENT
DTSTART;VALUE=DATE:20220608
DTEND;VALUE=DATE:20220609
DTSTAMP:20260425T114946
CREATED:20220513T220837Z
LAST-MODIFIED:20220608T230813Z
UID:7310-1654646400-1654732799@salemk12.org
SUMMARY:Biology MCAS
DESCRIPTION:
URL:https://salemk12.org/event/biology-mcas/
CATEGORIES:Salem High School
END:VEVENT
BEGIN:VEVENT
DTSTART;VALUE=DATE:20220608
DTEND;VALUE=DATE:20220609
DTSTAMP:20260425T114946
CREATED:20220523T223834Z
LAST-MODIFIED:20220608T230813Z
UID:7522-1654646400-1654732799@salemk12.org
SUMMARY:Faculty Meeting
DESCRIPTION:
URL:https://salemk12.org/event/faculty-meeting-3/
CATEGORIES:Salem High School
END:VEVENT
BEGIN:VEVENT
DTSTART;VALUE=DATE:20220608
DTEND;VALUE=DATE:20220609
DTSTAMP:20260425T114946
CREATED:20220523T223834Z
LAST-MODIFIED:20220608T230812Z
UID:7523-1654646400-1654732799@salemk12.org
SUMMARY:Music Awards Night
DESCRIPTION:
URL:https://salemk12.org/event/music-awards-night/
CATEGORIES:Salem High School
END:VEVENT
BEGIN:VEVENT
DTSTART;TZID=America/New_York:20220608T093000
DTEND;TZID=America/New_York:20220608T103000
DTSTAMP:20260425T114946
CREATED:20220601T183812Z
LAST-MODIFIED:20220607T185412Z
UID:7704-1654680600-1654684200@salemk12.org
SUMMARY:Instrumental concert Grs. 3-5
DESCRIPTION:
URL:https://salemk12.org/event/instrumental-concert-grs-3-5/
CATEGORIES:Horace Mann Laboratory School
END:VEVENT
END:VCALENDAR