BEGIN:VCALENDAR
VERSION:2.0
PRODID:-//Salem School District - ECPv6.15.18//NONSGML v1.0//EN
CALSCALE:GREGORIAN
METHOD:PUBLISH
X-WR-CALNAME:Salem School District
X-ORIGINAL-URL:https://salemk12.org
X-WR-CALDESC:Events for Salem School District
REFRESH-INTERVAL;VALUE=DURATION:PT1H
X-Robots-Tag:noindex
X-PUBLISHED-TTL:PT1H
BEGIN:VTIMEZONE
TZID:America/New_York
BEGIN:DAYLIGHT
TZOFFSETFROM:-0500
TZOFFSETTO:-0400
TZNAME:EDT
DTSTART:20210314T070000
END:DAYLIGHT
BEGIN:STANDARD
TZOFFSETFROM:-0400
TZOFFSETTO:-0500
TZNAME:EST
DTSTART:20211107T060000
END:STANDARD
BEGIN:DAYLIGHT
TZOFFSETFROM:-0500
TZOFFSETTO:-0400
TZNAME:EDT
DTSTART:20220313T070000
END:DAYLIGHT
BEGIN:STANDARD
TZOFFSETFROM:-0400
TZOFFSETTO:-0500
TZNAME:EST
DTSTART:20221106T060000
END:STANDARD
BEGIN:DAYLIGHT
TZOFFSETFROM:-0500
TZOFFSETTO:-0400
TZNAME:EDT
DTSTART:20230312T070000
END:DAYLIGHT
BEGIN:STANDARD
TZOFFSETFROM:-0400
TZOFFSETTO:-0500
TZNAME:EST
DTSTART:20231105T060000
END:STANDARD
END:VTIMEZONE
BEGIN:VEVENT
DTSTART;VALUE=DATE:20220609
DTEND;VALUE=DATE:20220610
DTSTAMP:20260425T114826
CREATED:20220512T173825Z
LAST-MODIFIED:20220607T185412Z
UID:7270-1654732800-1654819199@salemk12.org
SUMMARY:HMLS Field Day
DESCRIPTION:
URL:https://salemk12.org/event/hmls-field-day/
CATEGORIES:Horace Mann Laboratory School
END:VEVENT
BEGIN:VEVENT
DTSTART;VALUE=DATE:20220609
DTEND;VALUE=DATE:20220610
DTSTAMP:20260425T114826
CREATED:20220606T200806Z
LAST-MODIFIED:20220609T200813Z
UID:7814-1654732800-1654819199@salemk12.org
SUMMARY:E1Walking Field Trip
DESCRIPTION:
URL:https://salemk12.org/event/e1walking-field-trip/
CATEGORIES:Carlton Innovation School
END:VEVENT
BEGIN:VEVENT
DTSTART;TZID=America/New_York:20220609T093000
DTEND;TZID=America/New_York:20220609T103000
DTSTAMP:20260425T114826
CREATED:20220608T185336Z
LAST-MODIFIED:20220608T185336Z
UID:7864-1654767000-1654770600@salemk12.org
SUMMARY:Early intermediate ML presentations
DESCRIPTION:
URL:https://salemk12.org/event/early-intermediate-ml-presentations/
CATEGORIES:Horace Mann Laboratory School
END:VEVENT
BEGIN:VEVENT
DTSTART;TZID=America/New_York:20220609T100000
DTEND;TZID=America/New_York:20220609T110000
DTSTAMP:20260425T114826
CREATED:20220608T185336Z
LAST-MODIFIED:20220608T185336Z
UID:7865-1654768800-1654772400@salemk12.org
SUMMARY:Gr. 3 Recorder Recital
DESCRIPTION:
URL:https://salemk12.org/event/gr-3-recorder-recital-2/
CATEGORIES:Horace Mann Laboratory School
END:VEVENT
END:VCALENDAR