BEGIN:VCALENDAR
VERSION:2.0
PRODID:-//Salem School District - ECPv6.15.18//NONSGML v1.0//EN
CALSCALE:GREGORIAN
METHOD:PUBLISH
X-ORIGINAL-URL:https://salemk12.org
X-WR-CALDESC:Events for Salem School District
REFRESH-INTERVAL;VALUE=DURATION:PT1H
X-Robots-Tag:noindex
X-PUBLISHED-TTL:PT1H
BEGIN:VTIMEZONE
TZID:America/New_York
BEGIN:DAYLIGHT
TZOFFSETFROM:-0500
TZOFFSETTO:-0400
TZNAME:EDT
DTSTART:20210314T070000
END:DAYLIGHT
BEGIN:STANDARD
TZOFFSETFROM:-0400
TZOFFSETTO:-0500
TZNAME:EST
DTSTART:20211107T060000
END:STANDARD
BEGIN:DAYLIGHT
TZOFFSETFROM:-0500
TZOFFSETTO:-0400
TZNAME:EDT
DTSTART:20220313T070000
END:DAYLIGHT
BEGIN:STANDARD
TZOFFSETFROM:-0400
TZOFFSETTO:-0500
TZNAME:EST
DTSTART:20221106T060000
END:STANDARD
BEGIN:DAYLIGHT
TZOFFSETFROM:-0500
TZOFFSETTO:-0400
TZNAME:EDT
DTSTART:20230312T070000
END:DAYLIGHT
BEGIN:STANDARD
TZOFFSETFROM:-0400
TZOFFSETTO:-0500
TZNAME:EST
DTSTART:20231105T060000
END:STANDARD
END:VTIMEZONE
BEGIN:VEVENT
DTSTART;VALUE=DATE:20220615
DTEND;VALUE=DATE:20220616
DTSTAMP:20260425T114956
CREATED:20211216T200828Z
LAST-MODIFIED:20220615T235351Z
UID:3373-1655251200-1655337599@salemk12.org
SUMMARY:Last Day of Kindergarten-Pre K
DESCRIPTION:
URL:https://salemk12.org/event/last-day-of-kindergarten-pre-k/
CATEGORIES:Witchcraft Heights Elementary School
END:VEVENT
BEGIN:VEVENT
DTSTART;VALUE=DATE:20220615
DTEND;VALUE=DATE:20220616
DTSTAMP:20260425T114956
CREATED:20211223T170841Z
LAST-MODIFIED:20220615T205304Z
UID:3584-1655251200-1655337599@salemk12.org
SUMMARY:Last Day of School Pre-K & K only
DESCRIPTION:
URL:https://salemk12.org/event/last-day-of-school-pre-k-k-only/
CATEGORIES:District
END:VEVENT
BEGIN:VEVENT
DTSTART;VALUE=DATE:20220615
DTEND;VALUE=DATE:20220616
DTSTAMP:20260425T114956
CREATED:20220401T212406Z
LAST-MODIFIED:20220615T235351Z
UID:6419-1655251200-1655337599@salemk12.org
SUMMARY:Trimester 3 Ends
DESCRIPTION:
URL:https://salemk12.org/event/trimester-3-ends/
CATEGORIES:Witchcraft Heights Elementary School
END:VEVENT
BEGIN:VEVENT
DTSTART;VALUE=DATE:20220615
DTEND;VALUE=DATE:20220616
DTSTAMP:20260425T114956
CREATED:20220512T173825Z
LAST-MODIFIED:20220615T192312Z
UID:7271-1655251200-1655337599@salemk12.org
SUMMARY:Last day for PK/K
DESCRIPTION:
URL:https://salemk12.org/event/last-day-for-pk-k/
CATEGORIES:Horace Mann Laboratory School
END:VEVENT
BEGIN:VEVENT
DTSTART;VALUE=DATE:20220615
DTEND;VALUE=DATE:20220616
DTSTAMP:20260425T114956
CREATED:20220601T183812Z
LAST-MODIFIED:20220615T192312Z
UID:7705-1655251200-1655337599@salemk12.org
SUMMARY:Grade 5 Yearbooks/Pizza Celebration
DESCRIPTION:
URL:https://salemk12.org/event/grade-5-yearbooks-pizza-celebration/
CATEGORIES:Horace Mann Laboratory School
END:VEVENT
BEGIN:VEVENT
DTSTART;VALUE=DATE:20220615
DTEND;VALUE=DATE:20220616
DTSTAMP:20260425T114956
CREATED:20220603T175413Z
LAST-MODIFIED:20220615T183813Z
UID:7756-1655251200-1655337599@salemk12.org
SUMMARY:4th Grade AMC field trip
DESCRIPTION:
URL:https://salemk12.org/event/4th-grade-amc-field-trip/
CATEGORIES:Bates School
END:VEVENT
BEGIN:VEVENT
DTSTART;VALUE=DATE:20220615
DTEND;VALUE=DATE:20220616
DTSTAMP:20260425T114956
CREATED:20220603T175413Z
LAST-MODIFIED:20220615T183813Z
UID:7757-1655251200-1655337599@salemk12.org
SUMMARY:Prek & K last day of school
DESCRIPTION:
URL:https://salemk12.org/event/prek-k-last-day-of-school/
CATEGORIES:Bates School
END:VEVENT
BEGIN:VEVENT
DTSTART;VALUE=DATE:20220615
DTEND;VALUE=DATE:20220616
DTSTAMP:20260425T114956
CREATED:20220606T200806Z
LAST-MODIFIED:20220615T202321Z
UID:7817-1655251200-1655337599@salemk12.org
SUMMARY:E2 Srs Picnic
DESCRIPTION:
URL:https://salemk12.org/event/e2-srs-picnic/
CATEGORIES:Carlton Innovation School
END:VEVENT
BEGIN:VEVENT
DTSTART;TZID=America/New_York:20220615T090000
DTEND;TZID=America/New_York:20220615T100000
DTSTAMP:20260425T114956
CREATED:20220330T223844Z
LAST-MODIFIED:20220614T182352Z
UID:6280-1655283600-1655287200@salemk12.org
SUMMARY:Grade 5 Graduation
DESCRIPTION:
URL:https://salemk12.org/event/grade-5-graduation/
CATEGORIES:Bates School
END:VEVENT
BEGIN:VEVENT
DTSTART;TZID=America/New_York:20220615T091500
DTEND;TZID=America/New_York:20220615T103000
DTSTAMP:20260425T114956
CREATED:20220523T230822Z
LAST-MODIFIED:20220614T235413Z
UID:7533-1655284500-1655289000@salemk12.org
SUMMARY:5th Grade Moving on Ceremony
DESCRIPTION:
URL:https://salemk12.org/event/5th-grade-moving-on-ceremony/
CATEGORIES:Witchcraft Heights Elementary School
END:VEVENT
BEGIN:VEVENT
DTSTART;TZID=America/New_York:20220615T170000
DTEND;TZID=America/New_York:20220615T190000
DTSTAMP:20260425T114956
CREATED:20220526T213812Z
LAST-MODIFIED:20220615T220814Z
UID:7604-1655312400-1655319600@salemk12.org
SUMMARY:NLIS Graduation at the PEM
DESCRIPTION:
URL:https://salemk12.org/event/nlis-graduation-at-the-pem/
CATEGORIES:New Liberty Innovation School
END:VEVENT
BEGIN:VEVENT
DTSTART;TZID=America/New_York:20220615T180000
DTEND;TZID=America/New_York:20220615T193000
DTSTAMP:20260425T114956
CREATED:20220606T200806Z
LAST-MODIFIED:20220615T202321Z
UID:7818-1655316000-1655321400@salemk12.org
SUMMARY:Celebration of Learning P1/P2
DESCRIPTION:
URL:https://salemk12.org/event/celebration-of-learning-p1-p2/
CATEGORIES:Carlton Innovation School
END:VEVENT
BEGIN:VEVENT
DTSTART;TZID=America/New_York:20220615T180000
DTEND;TZID=America/New_York:20220615T200000
DTSTAMP:20260425T114956
CREATED:20220603T175413Z
LAST-MODIFIED:20220615T183813Z
UID:7755-1655316000-1655323200@salemk12.org
SUMMARY:5th Grade Blast Off Party
DESCRIPTION:
URL:https://salemk12.org/event/5th-grade-blast-off-party/
CATEGORIES:Bates School
END:VEVENT
BEGIN:VEVENT
DTSTART;TZID=America/New_York:20220615T183000
DTEND;TZID=America/New_York:20220615T190000
DTSTAMP:20260425T114956
CREATED:20211215T200826Z
LAST-MODIFIED:20220608T185348Z
UID:3202-1655317800-1655319600@salemk12.org
SUMMARY:PTC
DESCRIPTION:
URL:https://salemk12.org/event/ptc-7/
CATEGORIES:Horace Mann Laboratory School
END:VEVENT
END:VCALENDAR