BEGIN:VCALENDAR
VERSION:2.0
PRODID:-//Salem School District - ECPv6.15.18//NONSGML v1.0//EN
CALSCALE:GREGORIAN
METHOD:PUBLISH
X-ORIGINAL-URL:https://salemk12.org
X-WR-CALDESC:Events for Salem School District
REFRESH-INTERVAL;VALUE=DURATION:PT1H
X-Robots-Tag:noindex
X-PUBLISHED-TTL:PT1H
BEGIN:VTIMEZONE
TZID:America/New_York
BEGIN:DAYLIGHT
TZOFFSETFROM:-0500
TZOFFSETTO:-0400
TZNAME:EDT
DTSTART:20210314T070000
END:DAYLIGHT
BEGIN:STANDARD
TZOFFSETFROM:-0400
TZOFFSETTO:-0500
TZNAME:EST
DTSTART:20211107T060000
END:STANDARD
BEGIN:DAYLIGHT
TZOFFSETFROM:-0500
TZOFFSETTO:-0400
TZNAME:EDT
DTSTART:20220313T070000
END:DAYLIGHT
BEGIN:STANDARD
TZOFFSETFROM:-0400
TZOFFSETTO:-0500
TZNAME:EST
DTSTART:20221106T060000
END:STANDARD
BEGIN:DAYLIGHT
TZOFFSETFROM:-0500
TZOFFSETTO:-0400
TZNAME:EDT
DTSTART:20230312T070000
END:DAYLIGHT
BEGIN:STANDARD
TZOFFSETFROM:-0400
TZOFFSETTO:-0500
TZNAME:EST
DTSTART:20231105T060000
END:STANDARD
END:VTIMEZONE
BEGIN:VEVENT
DTSTART;VALUE=DATE:20220616
DTEND;VALUE=DATE:20220617
DTSTAMP:20260425T114944
CREATED:20220330T223844Z
LAST-MODIFIED:20220616T183811Z
UID:6281-1655337600-1655423999@salemk12.org
SUMMARY:Graduation - Rain Date
DESCRIPTION:
URL:https://salemk12.org/event/graduation-rain-date/
CATEGORIES:Bates School
END:VEVENT
BEGIN:VEVENT
DTSTART;VALUE=DATE:20220616
DTEND;VALUE=DATE:20220617
DTSTAMP:20260425T114944
CREATED:20220512T173825Z
LAST-MODIFIED:20220616T193811Z
UID:7273-1655337600-1655423999@salemk12.org
SUMMARY:Grade 5 Moving On Ceremony
DESCRIPTION:
URL:https://salemk12.org/event/grade-5-moving-on-ceremony/
CATEGORIES:Horace Mann Laboratory School
END:VEVENT
BEGIN:VEVENT
DTSTART;VALUE=DATE:20220616
DTEND;VALUE=DATE:20220617
DTSTAMP:20260425T114944
CREATED:20220512T173837Z
LAST-MODIFIED:20220616T193811Z
UID:7274-1655337600-1655423999@salemk12.org
SUMMARY:PK/K screening
DESCRIPTION:
URL:https://salemk12.org/event/pk-k-screening-2/
CATEGORIES:Horace Mann Laboratory School
END:VEVENT
BEGIN:VEVENT
DTSTART;TZID=America/New_York:20220616T100000
DTEND;TZID=America/New_York:20220616T110000
DTSTAMP:20260425T114944
CREATED:20220601T183824Z
LAST-MODIFIED:20220607T185424Z
UID:7708-1655373600-1655377200@salemk12.org
SUMMARY:Gr. 3 Recorder Recital
DESCRIPTION:
URL:https://salemk12.org/event/gr-3-recorder-recital/
CATEGORIES:Horace Mann Laboratory School
END:VEVENT
BEGIN:VEVENT
DTSTART;TZID=America/New_York:20220616T180000
DTEND;TZID=America/New_York:20220616T193000
DTSTAMP:20260425T114944
CREATED:20220606T200807Z
LAST-MODIFIED:20220616T202411Z
UID:7819-1655402400-1655407800@salemk12.org
SUMMARY:Celebration of Learning E1/E2
DESCRIPTION:
URL:https://salemk12.org/event/celebration-of-learning-e1-e2/
CATEGORIES:Carlton Innovation School
END:VEVENT
END:VCALENDAR