BEGIN:VCALENDAR
VERSION:2.0
PRODID:-//Salem School District - ECPv6.15.18//NONSGML v1.0//EN
CALSCALE:GREGORIAN
METHOD:PUBLISH
X-ORIGINAL-URL:https://salemk12.org
X-WR-CALDESC:Events for Salem School District
REFRESH-INTERVAL;VALUE=DURATION:PT1H
X-Robots-Tag:noindex
X-PUBLISHED-TTL:PT1H
BEGIN:VTIMEZONE
TZID:America/New_York
BEGIN:DAYLIGHT
TZOFFSETFROM:-0500
TZOFFSETTO:-0400
TZNAME:EDT
DTSTART:20210314T070000
END:DAYLIGHT
BEGIN:STANDARD
TZOFFSETFROM:-0400
TZOFFSETTO:-0500
TZNAME:EST
DTSTART:20211107T060000
END:STANDARD
BEGIN:DAYLIGHT
TZOFFSETFROM:-0500
TZOFFSETTO:-0400
TZNAME:EDT
DTSTART:20220313T070000
END:DAYLIGHT
BEGIN:STANDARD
TZOFFSETFROM:-0400
TZOFFSETTO:-0500
TZNAME:EST
DTSTART:20221106T060000
END:STANDARD
BEGIN:DAYLIGHT
TZOFFSETFROM:-0500
TZOFFSETTO:-0400
TZNAME:EDT
DTSTART:20230312T070000
END:DAYLIGHT
BEGIN:STANDARD
TZOFFSETFROM:-0400
TZOFFSETTO:-0500
TZNAME:EST
DTSTART:20231105T060000
END:STANDARD
END:VTIMEZONE
BEGIN:VEVENT
DTSTART;VALUE=DATE:20220617
DTEND;VALUE=DATE:20220618
DTSTAMP:20260425T114826
CREATED:20211223T170841Z
LAST-MODIFIED:20220617T205341Z
UID:3585-1655424000-1655510399@salemk12.org
SUMMARY:Last day of school
DESCRIPTION:
URL:https://salemk12.org/event/last-day-of-school/
CATEGORIES:District
END:VEVENT
BEGIN:VEVENT
DTSTART;VALUE=DATE:20220617
DTEND;VALUE=DATE:20220618
DTSTAMP:20260425T114826
CREATED:20220322T203810Z
LAST-MODIFIED:20220617T235339Z
UID:6004-1655424000-1655510399@salemk12.org
SUMMARY:Last Day of School
DESCRIPTION:
URL:https://salemk12.org/event/last-day-of-school-2/
CATEGORIES:Witchcraft Heights Elementary School
END:VEVENT
BEGIN:VEVENT
DTSTART;VALUE=DATE:20220617
DTEND;VALUE=DATE:20220618
DTSTAMP:20260425T114826
CREATED:20220330T223844Z
LAST-MODIFIED:20220617T183808Z
UID:6282-1655424000-1655510399@salemk12.org
SUMMARY:1/2 Day Last Day of School
DESCRIPTION:
URL:https://salemk12.org/event/1-2-day-last-day-of-school/
CATEGORIES:Bates School
END:VEVENT
BEGIN:VEVENT
DTSTART;VALUE=DATE:20220617
DTEND;VALUE=DATE:20220618
DTSTAMP:20260425T114826
CREATED:20220411T192309Z
LAST-MODIFIED:20220617T202309Z
UID:6670-1655424000-1655510399@salemk12.org
SUMMARY:Last Day of School (P1 Students)
DESCRIPTION:
URL:https://salemk12.org/event/last-day-of-school-p1-students/
CATEGORIES:Carlton Innovation School
END:VEVENT
BEGIN:VEVENT
DTSTART;VALUE=DATE:20220617
DTEND;VALUE=DATE:20220618
DTSTAMP:20260425T114826
CREATED:20220512T173825Z
LAST-MODIFIED:20220617T193810Z
UID:7272-1655424000-1655510399@salemk12.org
SUMMARY:PK/K screening
DESCRIPTION:
URL:https://salemk12.org/event/pk-k-screening/
CATEGORIES:Horace Mann Laboratory School
END:VEVENT
BEGIN:VEVENT
DTSTART;VALUE=DATE:20220617
DTEND;VALUE=DATE:20220618
DTSTAMP:20260425T114826
CREATED:20220523T223846Z
LAST-MODIFIED:20220617T232413Z
UID:7526-1655424000-1655510399@salemk12.org
SUMMARY:Last Day of School
DESCRIPTION:
URL:https://salemk12.org/event/last-day-of-school-3/
CATEGORIES:Salem High School
END:VEVENT
BEGIN:VEVENT
DTSTART;VALUE=DATE:20220617
DTEND;VALUE=DATE:20220618
DTSTAMP:20260425T114826
CREATED:20220601T183824Z
LAST-MODIFIED:20220617T193810Z
UID:7709-1655424000-1655510399@salemk12.org
SUMMARY:Fifth Graders vs Staff Basketball Game
DESCRIPTION:
URL:https://salemk12.org/event/fifth-graders-vs-staff-basketball-game/
CATEGORIES:Horace Mann Laboratory School
END:VEVENT
BEGIN:VEVENT
DTSTART;VALUE=DATE:20220617
DTEND;VALUE=DATE:20220618
DTSTAMP:20260425T114826
CREATED:20220606T200807Z
LAST-MODIFIED:20220617T202309Z
UID:7820-1655424000-1655510399@salemk12.org
SUMMARY:Field Day Rain Date
DESCRIPTION:
URL:https://salemk12.org/event/field-day-rain-date/
CATEGORIES:Carlton Innovation School
END:VEVENT
BEGIN:VEVENT
DTSTART;VALUE=DATE:20220617
DTEND;VALUE=DATE:20220618
DTSTAMP:20260425T114826
CREATED:20220607T213811Z
LAST-MODIFIED:20220617T215316Z
UID:7849-1655424000-1655510399@salemk12.org
SUMMARY:SPHS - Last day of school
DESCRIPTION:
URL:https://salemk12.org/event/sphs-last-day-of-school/
CATEGORIES:Salem Prep High School
END:VEVENT
BEGIN:VEVENT
DTSTART;TZID=America/New_York:20220617T074500
DTEND;TZID=America/New_York:20220617T111500
DTSTAMP:20260425T114826
CREATED:20211209T195132Z
LAST-MODIFIED:20220616T180806Z
UID:2848-1655451900-1655464500@salemk12.org
SUMMARY:Half day - Last Day of school grades 1-8
DESCRIPTION:
URL:https://salemk12.org/event/half-day-last-day-of-school-grades-1-8/
CATEGORIES:Saltonstall School
END:VEVENT
END:VCALENDAR