BEGIN:VCALENDAR
VERSION:2.0
PRODID:-//Salem School District - ECPv6.15.18//NONSGML v1.0//EN
CALSCALE:GREGORIAN
METHOD:PUBLISH
X-WR-CALNAME:Salem School District
X-ORIGINAL-URL:https://salemk12.org
X-WR-CALDESC:Events for Salem School District
REFRESH-INTERVAL;VALUE=DURATION:PT1H
X-Robots-Tag:noindex
X-PUBLISHED-TTL:PT1H
BEGIN:VTIMEZONE
TZID:America/New_York
BEGIN:DAYLIGHT
TZOFFSETFROM:-0500
TZOFFSETTO:-0400
TZNAME:EDT
DTSTART:20210314T070000
END:DAYLIGHT
BEGIN:STANDARD
TZOFFSETFROM:-0400
TZOFFSETTO:-0500
TZNAME:EST
DTSTART:20211107T060000
END:STANDARD
BEGIN:DAYLIGHT
TZOFFSETFROM:-0500
TZOFFSETTO:-0400
TZNAME:EDT
DTSTART:20220313T070000
END:DAYLIGHT
BEGIN:STANDARD
TZOFFSETFROM:-0400
TZOFFSETTO:-0500
TZNAME:EST
DTSTART:20221106T060000
END:STANDARD
BEGIN:DAYLIGHT
TZOFFSETFROM:-0500
TZOFFSETTO:-0400
TZNAME:EDT
DTSTART:20230312T070000
END:DAYLIGHT
BEGIN:STANDARD
TZOFFSETFROM:-0400
TZOFFSETTO:-0500
TZNAME:EST
DTSTART:20231105T060000
END:STANDARD
END:VTIMEZONE
BEGIN:VEVENT
DTSTART;VALUE=DATE:20220823
DTEND;VALUE=DATE:20220826
DTSTAMP:20260425T083916
CREATED:20220713T140850Z
LAST-MODIFIED:20220713T140850Z
UID:8588-1661212800-1661471999@salemk12.org
SUMMARY:Professional Development Day (full)
DESCRIPTION:
URL:https://salemk12.org/event/professional-development-day-full/
CATEGORIES:District
END:VEVENT
BEGIN:VEVENT
DTSTART;TZID=America/New_York:20220825T150000
DTEND;TZID=America/New_York:20220825T170000
DTSTAMP:20260425T083916
CREATED:20220822T192330Z
LAST-MODIFIED:20220825T192311Z
UID:10084-1661439600-1661446800@salemk12.org
SUMMARY:6th Grade Orientation
DESCRIPTION:
URL:https://salemk12.org/event/6th-grade-orientation/
LOCATION:29 Highland Ave\, Salem\, MA 01970\, USA
CATEGORIES:Collins Middle School
END:VEVENT
BEGIN:VEVENT
DTSTART;TZID=America/New_York:20220825T170000
DTEND;TZID=America/New_York:20220825T193000
DTSTAMP:20260425T083916
CREATED:20220711T180445Z
LAST-MODIFIED:20220713T141206Z
UID:8464-1661446800-1661455800@salemk12.org
SUMMARY:Back to School Fair / Feria de regreso a la escuela / Feira da volta para a escola
DESCRIPTION:This is the Rain Date \nSave the Date! \nMore information to come soon. \n  \nEsta es la fecha en caso de mal clima \nGuarde la Fecha \nMas informacion llega pronto. \n  \nEsta é a data em caso de mau tempo\nReserve a data \nMais informações em breve. \n 
URL:https://salemk12.org/event/back-to-school-fair-feria-de-regreso-a-la-escuela-feira-da-volta-para-a-escola-2/
CATEGORIES:District
END:VEVENT
BEGIN:VEVENT
DTSTART;TZID=America/New_York:20220825T173000
DTEND;TZID=America/New_York:20220825T193000
DTSTAMP:20260425T083916
CREATED:20220824T232322Z
LAST-MODIFIED:20220824T232322Z
UID:10202-1661448600-1661455800@salemk12.org
SUMMARY:NLIS Back to School Event @Winter Island
DESCRIPTION:
URL:https://salemk12.org/event/nlis-back-to-school-event-winter-island/
LOCATION:50 Winter Island Road Salem MA
CATEGORIES:New Liberty Innovation School
END:VEVENT
END:VCALENDAR