BEGIN:VCALENDAR
VERSION:2.0
PRODID:-//Salem School District - ECPv6.15.18//NONSGML v1.0//EN
CALSCALE:GREGORIAN
METHOD:PUBLISH
X-ORIGINAL-URL:https://salemk12.org
X-WR-CALDESC:Events for Salem School District
REFRESH-INTERVAL;VALUE=DURATION:PT1H
X-Robots-Tag:noindex
X-PUBLISHED-TTL:PT1H
BEGIN:VTIMEZONE
TZID:America/New_York
BEGIN:DAYLIGHT
TZOFFSETFROM:-0500
TZOFFSETTO:-0400
TZNAME:EDT
DTSTART:20210314T070000
END:DAYLIGHT
BEGIN:STANDARD
TZOFFSETFROM:-0400
TZOFFSETTO:-0500
TZNAME:EST
DTSTART:20211107T060000
END:STANDARD
BEGIN:DAYLIGHT
TZOFFSETFROM:-0500
TZOFFSETTO:-0400
TZNAME:EDT
DTSTART:20220313T070000
END:DAYLIGHT
BEGIN:STANDARD
TZOFFSETFROM:-0400
TZOFFSETTO:-0500
TZNAME:EST
DTSTART:20221106T060000
END:STANDARD
BEGIN:DAYLIGHT
TZOFFSETFROM:-0500
TZOFFSETTO:-0400
TZNAME:EDT
DTSTART:20230312T070000
END:DAYLIGHT
BEGIN:STANDARD
TZOFFSETFROM:-0400
TZOFFSETTO:-0500
TZNAME:EST
DTSTART:20231105T060000
END:STANDARD
END:VTIMEZONE
BEGIN:VEVENT
DTSTART;VALUE=DATE:20220906
DTEND;VALUE=DATE:20220907
DTSTAMP:20260425T000255
CREATED:20220713T143030Z
LAST-MODIFIED:20220713T143030Z
UID:8612-1662422400-1662508799@salemk12.org
SUMMARY:State Primary Election (school in session)
DESCRIPTION:
URL:https://salemk12.org/event/state-primary-election-school-in-session/
CATEGORIES:District
END:VEVENT
BEGIN:VEVENT
DTSTART;VALUE=DATE:20220906
DTEND;VALUE=DATE:20220907
DTSTAMP:20260425T000255
CREATED:20220713T143153Z
LAST-MODIFIED:20220713T143243Z
UID:8614-1662422400-1662508799@salemk12.org
SUMMARY:First Day of School (PK/Kindergarten)
DESCRIPTION:
URL:https://salemk12.org/event/first-day-of-school-pk-kindergarten/
CATEGORIES:Bates School,Bentley School,Collins Middle School,Early Childhood Center,Horace Mann Laboratory School,Saltonstall School,Witchcraft Heights Elementary School
END:VEVENT
BEGIN:VEVENT
DTSTART;VALUE=DATE:20220906
DTEND;VALUE=DATE:20220907
DTSTAMP:20260425T000255
CREATED:20220818T203811Z
LAST-MODIFIED:20220906T210812Z
UID:9992-1662422400-1662508799@salemk12.org
SUMMARY:Boo Hoo Breakfast for Kinder Parents (after drop off)
DESCRIPTION:
URL:https://salemk12.org/event/boo-hoo-breakfast-for-kinder-parents-after-drop-off/
CATEGORIES:Witchcraft Heights Elementary School
END:VEVENT
BEGIN:VEVENT
DTSTART;VALUE=DATE:20220906
DTEND;VALUE=DATE:20220907
DTSTAMP:20260425T000255
CREATED:20220818T203811Z
LAST-MODIFIED:20220906T210812Z
UID:9993-1662422400-1662508799@salemk12.org
SUMMARY:Kindergarten First Day of School
DESCRIPTION:
URL:https://salemk12.org/event/kindergarten-first-day-of-school/
CATEGORIES:Witchcraft Heights Elementary School
END:VEVENT
END:VCALENDAR