BEGIN:VCALENDAR
VERSION:2.0
PRODID:-//Salem School District - ECPv6.15.18//NONSGML v1.0//EN
CALSCALE:GREGORIAN
METHOD:PUBLISH
X-ORIGINAL-URL:https://salemk12.org
X-WR-CALDESC:Events for Salem School District
REFRESH-INTERVAL;VALUE=DURATION:PT1H
X-Robots-Tag:noindex
X-PUBLISHED-TTL:PT1H
BEGIN:VTIMEZONE
TZID:America/New_York
BEGIN:DAYLIGHT
TZOFFSETFROM:-0500
TZOFFSETTO:-0400
TZNAME:EDT
DTSTART:20220313T070000
END:DAYLIGHT
BEGIN:STANDARD
TZOFFSETFROM:-0400
TZOFFSETTO:-0500
TZNAME:EST
DTSTART:20221106T060000
END:STANDARD
BEGIN:DAYLIGHT
TZOFFSETFROM:-0500
TZOFFSETTO:-0400
TZNAME:EDT
DTSTART:20230312T070000
END:DAYLIGHT
BEGIN:STANDARD
TZOFFSETFROM:-0400
TZOFFSETTO:-0500
TZNAME:EST
DTSTART:20231105T060000
END:STANDARD
BEGIN:DAYLIGHT
TZOFFSETFROM:-0500
TZOFFSETTO:-0400
TZNAME:EDT
DTSTART:20240310T070000
END:DAYLIGHT
BEGIN:STANDARD
TZOFFSETFROM:-0400
TZOFFSETTO:-0500
TZNAME:EST
DTSTART:20241103T060000
END:STANDARD
BEGIN:DAYLIGHT
TZOFFSETFROM:-0500
TZOFFSETTO:-0400
TZNAME:EDT
DTSTART:20250309T070000
END:DAYLIGHT
BEGIN:STANDARD
TZOFFSETFROM:-0400
TZOFFSETTO:-0500
TZNAME:EST
DTSTART:20251102T060000
END:STANDARD
END:VTIMEZONE
BEGIN:VEVENT
DTSTART;TZID=America/New_York:20230914T173000
DTEND;TZID=America/New_York:20230914T183000
DTSTAMP:20260421T092921
CREATED:20230818T175320Z
LAST-MODIFIED:20230914T185323Z
UID:18701-1694712600-1694716200@salemk12.org
SUMMARY:Latino Game Night
DESCRIPTION:
URL:https://salemk12.org/event/latino-game-night/
LOCATION:MA
CATEGORIES:Saltonstall School
END:VEVENT
BEGIN:VEVENT
DTSTART;TZID=America/New_York:20230919T180000
DTEND;TZID=America/New_York:20230919T193000
DTSTAMP:20260421T092921
CREATED:20230719T232337Z
LAST-MODIFIED:20230919T185306Z
UID:18034-1695146400-1695151800@salemk12.org
SUMMARY:Salts - Open House
DESCRIPTION:
URL:https://salemk12.org/event/open-house/
LOCATION:MA
CATEGORIES:Saltonstall School
END:VEVENT
BEGIN:VEVENT
DTSTART;TZID=America/New_York:20230920T180000
DTEND;TZID=America/New_York:20230920T200000
DTSTAMP:20260421T092921
CREATED:20230905T180813Z
LAST-MODIFIED:20230920T185316Z
UID:19209-1695232800-1695240000@salemk12.org
SUMMARY:SPS Instrument Rental Night (Saltonstall Auditorium)
DESCRIPTION:
URL:https://salemk12.org/event/sps-instrument-rental-night-saltonstall-auditorium/
LOCATION:MA
CATEGORIES:Saltonstall School
END:VEVENT
BEGIN:VEVENT
DTSTART;TZID=America/New_York:20231003T083000
DTEND;TZID=America/New_York:20231003T093000
DTSTAMP:20260421T092921
CREATED:20230818T175320Z
LAST-MODIFIED:20231002T190811Z
UID:18702-1696321800-1696325400@salemk12.org
SUMMARY:Breakfast with Admin
DESCRIPTION:
URL:https://salemk12.org/event/breakfast-with-admin/
LOCATION:MA
CATEGORIES:Saltonstall School
END:VEVENT
BEGIN:VEVENT
DTSTART;TZID=America/New_York:20231004T190000
DTEND;TZID=America/New_York:20231004T200000
DTSTAMP:20260421T092921
CREATED:20230927T123739Z
LAST-MODIFIED:20230927T124920Z
UID:19849-1696446000-1696449600@salemk12.org
SUMMARY:Free Webinar: Addressing School-Related Anxiety and School Avoidance
DESCRIPTION:Espanol | Portuguese\nRegister Now\nSchool-related anxiety and school avoidance have both increased since the start of the COVID-19 pandemic. Join Cartwheel’s Chief Medical Officer Dr. Juliana Chen and clinical psychologist Dr. Tai Katzenstein as we explore parenting strategies to support kids and teens with anxiety and decrease conflicts at home. \nWe’ll cover: \n\nThe signs of school-related anxiety in children\nStrategies for parenting and helping kids cope\nQ&A to address your parenting challenges and concerns\n\nAbout this webinar series  \nThis virtual workshop is part of a free webinar series hosted by Cartwheel. Each webinar is designed to support parents and caregivers with practical skills to feel more confident in connecting with the children in their lives. Stay tuned for future events. \nAbout Cartwheel \nCartwheel partners with school districts to provide students and families with rapid access to mental health assessments\, evidence-based therapy\, medication management and consultation\, and parent/guardian guidance. All of Cartwheel’s services are via telehealth with licensed clinicians. To learn more about Cartwheel’s services\, please contact a member of your school’s counseling or guidance team.
URL:https://salemk12.org/event/cartwheel-webinar-series-school-related-anxiety/
LOCATION:Online/Virtual
CATEGORIES:Collins Middle School,New Liberty Innovation School,Salem High School,Salem Prep High School,Saltonstall School
ATTACH;FMTTYPE=image/jpeg:https://salemk12.org/wp-content/uploads/2023/09/Cartwheel-Logo.jpg
END:VEVENT
BEGIN:VEVENT
DTSTART;TZID=America/New_York:20231011T170000
DTEND;TZID=America/New_York:20231011T180000
DTSTAMP:20260421T092921
CREATED:20231005T193811Z
LAST-MODIFIED:20231011T193808Z
UID:20154-1697043600-1697047200@salemk12.org
SUMMARY:Hispanic and Indigenous Peoples Heritage Meet & Eat
DESCRIPTION:
URL:https://salemk12.org/event/hispanic-and-indigenous-peoples-heritage-meet-eat/
LOCATION:MA
CATEGORIES:Saltonstall School
END:VEVENT
BEGIN:VEVENT
DTSTART;VALUE=DATE:20231018
DTEND;VALUE=DATE:20231019
DTSTAMP:20260421T092921
CREATED:20230818T175320Z
LAST-MODIFIED:20231018T195303Z
UID:18703-1697587200-1697673599@salemk12.org
SUMMARY:Heritage Celebration
DESCRIPTION:
URL:https://salemk12.org/event/heritage-celebration/
LOCATION:MA
CATEGORIES:Saltonstall School
END:VEVENT
BEGIN:VEVENT
DTSTART;TZID=America/New_York:20231101T123000
DTEND;TZID=America/New_York:20231101T131500
DTSTAMP:20260421T092921
CREATED:20231018T183634Z
LAST-MODIFIED:20231018T183801Z
UID:20583-1698841800-1698844500@salemk12.org
SUMMARY:FREE WEBINAR: Raising Healthy Kids in a Digital World
DESCRIPTION:
URL:https://salemk12.org/event/free-webinar-raising-healthy-kids-in-a-digital-world/
LOCATION:MA
CATEGORIES:Collins Middle School,New Liberty Innovation School,Salem High School,Salem Prep High School,Saltonstall School
END:VEVENT
BEGIN:VEVENT
DTSTART;TZID=America/New_York:20231109T173000
DTEND;TZID=America/New_York:20231109T190000
DTSTAMP:20260421T092921
CREATED:20230926T183843Z
LAST-MODIFIED:20231109T192309Z
UID:19837-1699551000-1699556400@salemk12.org
SUMMARY:"Dangers of Vaping" Presentation
DESCRIPTION:Presented by the Northeast Tobacco-Free Community Partnership\, an organization funded by The Massachusetts Department of Public Health. Come join us for an info session about the dangers of Vaping\, as well as obtain information on;\n• Free resources to help people\nstop smoking\, vaping\, or using\nother nicotine products\n• Opportunities for youth to get\ninvolved in their community to\nfight tobacco through The 84\nMovement (the84.org)\n• Dangers of secondhand smoke\,\nthe benefits of smoke-free\nhousing\, and how to make\na home smoke-free
URL:https://salemk12.org/event/dangers-of-vaping-presentation/
LOCATION:Collins Middle School\, 31 Highland Ave\, Salem\, MA\, United States
CATEGORIES:Collins Middle School,Saltonstall School
GEO:42.51474;-70.906061
X-APPLE-STRUCTURED-LOCATION;VALUE=URI;X-ADDRESS=Collins Middle School 31 Highland Ave Salem MA United States;X-APPLE-RADIUS=500;X-TITLE=31 Highland Ave:geo:-70.906061,42.51474
END:VEVENT
BEGIN:VEVENT
DTSTART;TZID=America/New_York:20231115T180000
DTEND;TZID=America/New_York:20231115T193000
DTSTAMP:20260421T092921
CREATED:20231017T143450Z
LAST-MODIFIED:20231017T143706Z
UID:20519-1700071200-1700076600@salemk12.org
SUMMARY:Multi-Language (ML) Family Night at Saltonstall School
DESCRIPTION:
URL:https://salemk12.org/event/multi-language-ml-family-night-at-saltonstall-school/
LOCATION:Saltonstall School\, 211 Lafayette St\, Salem\, MA 01970\, USA
CATEGORIES:Saltonstall School
END:VEVENT
BEGIN:VEVENT
DTSTART;TZID=America/New_York:20231214T190000
DTEND;TZID=America/New_York:20231214T200000
DTSTAMP:20260421T092921
CREATED:20230905T180813Z
LAST-MODIFIED:20231214T222305Z
UID:19210-1702580400-1702584000@salemk12.org
SUMMARY:All City 5th Grade Instrumental Music Concert (SHS Auditorium)
DESCRIPTION:Snow Date for this concert: Tue. Dec 19th
URL:https://salemk12.org/event/all-city-5th-grade-instrumental-music-concert-shs-auditorium-2/
LOCATION:MA
CATEGORIES:Bates School,Bentley School,Carlton Innovation School,Horace Mann Laboratory School,New Liberty Innovation School,Saltonstall School,Witchcraft Heights Elementary School
END:VEVENT
BEGIN:VEVENT
DTSTART;TZID=America/New_York:20231218T190000
DTEND;TZID=America/New_York:20231218T210000
DTSTAMP:20260421T092921
CREATED:20230919T203633Z
LAST-MODIFIED:20230919T203633Z
UID:19541-1702926000-1702933200@salemk12.org
SUMMARY:Salem Community Band Winter Concert
DESCRIPTION:
URL:https://salemk12.org/event/salem-community-band-winter-concert-4/
LOCATION:Salem High School M. Ruth Norton Auditorium\, 77 Willson Street\, Salem\, MA\, 01970\, United States
CATEGORIES:Bates School,Bentley School,Carlton Innovation School,Collins Middle School,District,Horace Mann Laboratory School,Salem High School,Saltonstall School,Witchcraft Heights Elementary School
END:VEVENT
BEGIN:VEVENT
DTSTART;TZID=America/New_York:20240118T183000
DTEND;TZID=America/New_York:20240118T203000
DTSTAMP:20260421T092921
CREATED:20231115T212259Z
LAST-MODIFIED:20231115T215000Z
UID:21413-1705602600-1705609800@salemk12.org
SUMMARY:Virtual Early Education Town Hall
DESCRIPTION:
URL:https://salemk12.org/event/virtual-early-education-town-hall/
LOCATION:Online/Virtual
CATEGORIES:Bates School,Bentley School,Carlton Innovation School,Collins Middle School,District,Early Childhood Center,Horace Mann Laboratory School,New Liberty Innovation School,Saltonstall School,Witchcraft Heights Elementary School
END:VEVENT
BEGIN:VEVENT
DTSTART;TZID=America/New_York:20240123T190000
DTEND;TZID=America/New_York:20240123T210000
DTSTAMP:20260421T092921
CREATED:20240110T203307Z
LAST-MODIFIED:20240110T215047Z
UID:22818-1706036400-1706043600@salemk12.org
SUMMARY:5th Grade All-City Concert
DESCRIPTION:
URL:https://salemk12.org/event/5th-grade-all-city-concert-24/
LOCATION:Salem High School\, 77 Willson St\, Salem\, MA 01970\, USA
CATEGORIES:Bates School,Bentley School,Carlton Innovation School,Horace Mann Laboratory School,Saltonstall School,Witchcraft Heights Elementary School
ATTACH;FMTTYPE=image/jpeg:https://salemk12.org/wp-content/uploads/2024/01/All-City-5th-Grade-Concert.jpg
END:VEVENT
BEGIN:VEVENT
DTSTART;TZID=America/New_York:20240206T190000
DTEND;TZID=America/New_York:20240206T200000
DTSTAMP:20260421T092921
CREATED:20240118T030621Z
LAST-MODIFIED:20240118T030621Z
UID:23080-1707246000-1707249600@salemk12.org
SUMMARY:Free Webinar: Recognizing and treating OCD and tic disorders in children and adolescents
DESCRIPTION:
URL:https://salemk12.org/event/free-webinar-ocd-tic-disorders-in-children-adolescents/
LOCATION:Online/Virtual
CATEGORIES:Bates School,Bentley School,Carlton Innovation School,Collins Middle School,District,Early Childhood Center,Horace Mann Laboratory School,New Liberty Innovation School,Salem High School,Salem Prep High School,Saltonstall School,Witchcraft Heights Elementary School
END:VEVENT
BEGIN:VEVENT
DTSTART;TZID=America/New_York:20240206T193000
DTEND;TZID=America/New_York:20240206T203000
DTSTAMP:20260421T092921
CREATED:20240130T225314Z
LAST-MODIFIED:20240206T225326Z
UID:23598-1707247800-1707251400@salemk12.org
SUMMARY:PTO Meeting on Zoom
DESCRIPTION:For the link please  \nEmail us at SaltonstallPTO@gmail.com
URL:https://salemk12.org/event/pto-meeting-on-zoom/
LOCATION:MA
CATEGORIES:Saltonstall School
END:VEVENT
BEGIN:VEVENT
DTSTART;TZID=America/New_York:20240207T180000
DTEND;TZID=America/New_York:20240207T193000
DTSTAMP:20260421T092921
CREATED:20240129T225306Z
LAST-MODIFIED:20240207T225305Z
UID:23579-1707328800-1707334200@salemk12.org
SUMMARY:ELPAC Meeting
DESCRIPTION:ZOOM link /Enlace Zoom/ Link de Zoom:Join Zoom Meetinghttps://us06web.zoom.us/j/3898705944?pwd=V0V2cHZXUzNwK1p4a21Oem02NDdHQT09 Meeting ID:389 870 5944 Passcode: YqAJ75
URL:https://salemk12.org/event/elpac-meeting-4/
LOCATION:MA
CATEGORIES:Saltonstall School
END:VEVENT
BEGIN:VEVENT
DTSTART;TZID=America/New_York:20240208T173000
DTEND;TZID=America/New_York:20240208T193000
DTSTAMP:20260421T092921
CREATED:20240129T225306Z
LAST-MODIFIED:20240208T225337Z
UID:23580-1707413400-1707420600@salemk12.org
SUMMARY:SPS Early Childhood Meet & Greet
DESCRIPTION:At Collins Middle School Cafeteria.\n29 Highland Ave. Salem MA 01970
URL:https://salemk12.org/event/sps-early-childhood-meet-greet/
LOCATION:MA
CATEGORIES:Saltonstall School
END:VEVENT
BEGIN:VEVENT
DTSTART;TZID=America/New_York:20240209T180000
DTEND;TZID=America/New_York:20240209T193000
DTSTAMP:20260421T092921
CREATED:20240129T225306Z
LAST-MODIFIED:20240209T225316Z
UID:23581-1707501600-1707507000@salemk12.org
SUMMARY:K-4 Valentine's Glow Dance
DESCRIPTION:In the School Cafeteria. Children Must be accompanied by guardian.
URL:https://salemk12.org/event/k-4-valentines-glow-dance/
LOCATION:MA
CATEGORIES:Saltonstall School
END:VEVENT
BEGIN:VEVENT
DTSTART;TZID=America/New_York:20240213T190000
DTEND;TZID=America/New_York:20240213T200000
DTSTAMP:20260421T092921
CREATED:20230905T180814Z
LAST-MODIFIED:20240213T230811Z
UID:19211-1707850800-1707854400@salemk12.org
SUMMARY:All City Beginner Instrumental Music Concert (SHS Auditorium)
DESCRIPTION:Snow Date: Thurs.\, Feb 15th
URL:https://salemk12.org/event/all-city-beginner-instrumental-music-concert-shs-auditorium-2/
LOCATION:MA
CATEGORIES:Saltonstall School
END:VEVENT
BEGIN:VEVENT
DTSTART;VALUE=DATE:20240301
DTEND;VALUE=DATE:20240302
DTSTAMP:20260421T092921
CREATED:20240227T175302Z
LAST-MODIFIED:20240301T175306Z
UID:24339-1709251200-1709337599@salemk12.org
SUMMARY:End of Trimestre
DESCRIPTION:
URL:https://salemk12.org/event/end-of-trimestre/
LOCATION:MA
CATEGORIES:Saltonstall School
END:VEVENT
BEGIN:VEVENT
DTSTART;TZID=America/New_York:20240304T193000
DTEND;TZID=America/New_York:20240304T203000
DTSTAMP:20260421T092921
CREATED:20240227T175302Z
LAST-MODIFIED:20240304T175313Z
UID:24340-1709580600-1709584200@salemk12.org
SUMMARY:Family Meeting
DESCRIPTION:Join with Google Meet: https://meet.google.com/rrs-xyfn-eur\nOr dial: (US) +1 470-326-0712 PIN: 943142227#\nMore phone numbers: https://tel.meet/rrs-xyfn-eur?pin=2509211171522&hs=7\nLearn more about Meet at: https://support.google.com/a/users/answer/9282720
URL:https://salemk12.org/event/family-meeting/
LOCATION:MA
CATEGORIES:Saltonstall School
END:VEVENT
BEGIN:VEVENT
DTSTART;VALUE=DATE:20240306
DTEND;VALUE=DATE:20240307
DTSTAMP:20260421T092921
CREATED:20240227T175302Z
LAST-MODIFIED:20240306T175304Z
UID:24341-1709683200-1709769599@salemk12.org
SUMMARY:NO SCHOOL for Students
DESCRIPTION:
URL:https://salemk12.org/event/no-school-for-students/
LOCATION:MA
CATEGORIES:Saltonstall School
END:VEVENT
BEGIN:VEVENT
DTSTART;TZID=America/New_York:20240312T193000
DTEND;TZID=America/New_York:20240312T203000
DTSTAMP:20260421T092921
CREATED:20240227T175302Z
LAST-MODIFIED:20240312T175337Z
UID:24342-1710271800-1710275400@salemk12.org
SUMMARY:PTO Meeting
DESCRIPTION:On Zoom. for Link\, Please Email us at SaltonstallPTO@gmail.com
URL:https://salemk12.org/event/pto-meeting-132/
LOCATION:MA
CATEGORIES:Saltonstall School
END:VEVENT
BEGIN:VEVENT
DTSTART;TZID=America/New_York:20240313T180000
DTEND;TZID=America/New_York:20240313T193000
DTSTAMP:20260421T092921
CREATED:20240227T175302Z
LAST-MODIFIED:20240313T175306Z
UID:24343-1710352800-1710358200@salemk12.org
SUMMARY:Latino Family Group Night Meeting
DESCRIPTION:
URL:https://salemk12.org/event/latino-family-group-night-meeting/
LOCATION:MA
CATEGORIES:Saltonstall School
END:VEVENT
BEGIN:VEVENT
DTSTART;TZID=America/New_York:20240314T180000
DTEND;TZID=America/New_York:20240314T193000
DTSTAMP:20260421T092921
CREATED:20231017T145207Z
LAST-MODIFIED:20240207T175009Z
UID:20529-1710439200-1710444600@salemk12.org
SUMMARY:Multi-Language Family Night
DESCRIPTION:Meeting ID: 389 870 5944  \nPasscode: YqAJ75
URL:https://salemk12.org/event/multi-language-family-night/
LOCATION:Saltonstall School\, 211 Lafayette St\, Salem\, MA 01970\, USA
CATEGORIES:Saltonstall School
END:VEVENT
BEGIN:VEVENT
DTSTART;TZID=America/New_York:20240314T180000
DTEND;TZID=America/New_York:20240314T193000
DTSTAMP:20260421T092921
CREATED:20240227T175303Z
LAST-MODIFIED:20240314T175311Z
UID:24344-1710439200-1710444600@salemk12.org
SUMMARY:Multi-Language Family Night
DESCRIPTION:Meeting ID: 389 870 5944\nPasscode: YqAJ75
URL:https://salemk12.org/event/multi-language-family-night-2/
LOCATION:Saltonstall School\, 211 Lafayette St\, Salem\, MA 01970\, USA
CATEGORIES:Saltonstall School
END:VEVENT
BEGIN:VEVENT
DTSTART;VALUE=DATE:20240315
DTEND;VALUE=DATE:20240316
DTSTAMP:20260421T092921
CREATED:20240227T175303Z
LAST-MODIFIED:20240315T180808Z
UID:24345-1710460800-1710547199@salemk12.org
SUMMARY:Report Card Posted
DESCRIPTION:
URL:https://salemk12.org/event/report-card-posted/
LOCATION:MA
CATEGORIES:Saltonstall School
END:VEVENT
BEGIN:VEVENT
DTSTART;TZID=America/New_York:20240320T090000
DTEND;TZID=America/New_York:20240320T103000
DTSTAMP:20260421T092921
CREATED:20240227T175303Z
LAST-MODIFIED:20240319T182303Z
UID:24346-1710925200-1710930600@salemk12.org
SUMMARY:Latino Family Group Morning Meeting
DESCRIPTION:
URL:https://salemk12.org/event/latino-family-group-morning-meeting/
LOCATION:MA
CATEGORIES:Saltonstall School
END:VEVENT
BEGIN:VEVENT
DTSTART;TZID=America/New_York:20240320T123000
DTEND;TZID=America/New_York:20240320T150000
DTSTAMP:20260421T092921
CREATED:20240227T175303Z
LAST-MODIFIED:20240320T182415Z
UID:24347-1710937800-1710946800@salemk12.org
SUMMARY:Family Conferences and Portfolios
DESCRIPTION:
URL:https://salemk12.org/event/family-conferences-and-portfolios/
LOCATION:MA
CATEGORIES:Saltonstall School
END:VEVENT
END:VCALENDAR