BEGIN:VCALENDAR
VERSION:2.0
PRODID:-//Salem School District - ECPv6.15.18//NONSGML v1.0//EN
CALSCALE:GREGORIAN
METHOD:PUBLISH
X-ORIGINAL-URL:https://salemk12.org
X-WR-CALDESC:Events for Salem School District
REFRESH-INTERVAL;VALUE=DURATION:PT1H
X-Robots-Tag:noindex
X-PUBLISHED-TTL:PT1H
BEGIN:VTIMEZONE
TZID:America/New_York
BEGIN:DAYLIGHT
TZOFFSETFROM:-0500
TZOFFSETTO:-0400
TZNAME:EDT
DTSTART:20240310T070000
END:DAYLIGHT
BEGIN:STANDARD
TZOFFSETFROM:-0400
TZOFFSETTO:-0500
TZNAME:EST
DTSTART:20241103T060000
END:STANDARD
BEGIN:DAYLIGHT
TZOFFSETFROM:-0500
TZOFFSETTO:-0400
TZNAME:EDT
DTSTART:20250309T070000
END:DAYLIGHT
BEGIN:STANDARD
TZOFFSETFROM:-0400
TZOFFSETTO:-0500
TZNAME:EST
DTSTART:20251102T060000
END:STANDARD
BEGIN:DAYLIGHT
TZOFFSETFROM:-0500
TZOFFSETTO:-0400
TZNAME:EDT
DTSTART:20260308T070000
END:DAYLIGHT
BEGIN:STANDARD
TZOFFSETFROM:-0400
TZOFFSETTO:-0500
TZNAME:EST
DTSTART:20261101T060000
END:STANDARD
BEGIN:DAYLIGHT
TZOFFSETFROM:-0500
TZOFFSETTO:-0400
TZNAME:EDT
DTSTART:20270314T070000
END:DAYLIGHT
BEGIN:STANDARD
TZOFFSETFROM:-0400
TZOFFSETTO:-0500
TZNAME:EST
DTSTART:20271107T060000
END:STANDARD
END:VTIMEZONE
BEGIN:VEVENT
DTSTART;TZID=America/New_York:20250915T173000
DTEND;TZID=America/New_York:20250915T193000
DTSTAMP:20260419T095354
CREATED:20250820T185259Z
LAST-MODIFIED:20250822T134635Z
UID:46052-1757957400-1757964600@salemk12.org
SUMMARY:Saltonstall School Open House
DESCRIPTION:
URL:https://salemk12.org/event/saltonstall-school-open-house-3/
LOCATION:Saltonstall School\, 211 Lafayette St\, Salem\, MA 01970\, USA
CATEGORIES:Saltonstall School
END:VEVENT
BEGIN:VEVENT
DTSTART;TZID=America/New_York:20251117T170000
DTEND;TZID=America/New_York:20251117T190000
DTSTAMP:20260419T095354
CREATED:20251105T170700Z
LAST-MODIFIED:20251105T170700Z
UID:48495-1763398800-1763406000@salemk12.org
SUMMARY:Elementary School Reconfiguration Forum
DESCRIPTION:
URL:https://salemk12.org/event/elementary-school-reconfiguration-forum/
LOCATION:Saltonstall School\, 211 Lafayette St\, Salem\, MA 01970\, USA
CATEGORIES:Saltonstall School
END:VEVENT
BEGIN:VEVENT
DTSTART;TZID=America/New_York:20260128T180000
DTEND;TZID=America/New_York:20260128T193000
DTSTAMP:20260419T095354
CREATED:20250228T215308Z
LAST-MODIFIED:20260116T133036Z
UID:40243-1769623200-1769628600@salemk12.org
SUMMARY:Virtual Town Hall-Early Childhood Expo 2026
DESCRIPTION:
URL:https://salemk12.org/event/virtual-town-hall-early-childhood-expo2026/
LOCATION:Online/Virtual
CATEGORIES:Saltonstall School
END:VEVENT
BEGIN:VEVENT
DTSTART;TZID=America/New_York:20260204T170000
DTEND;TZID=America/New_York:20260204T190000
DTSTAMP:20260419T095354
CREATED:20250228T215320Z
LAST-MODIFIED:20260113T215302Z
UID:40244-1770224400-1770231600@salemk12.org
SUMMARY:Meet & Greet-Early Childhood Expo2026
DESCRIPTION:
URL:https://salemk12.org/event/meet-greet-early-childhood-expo2026/
CATEGORIES:Saltonstall School
END:VEVENT
BEGIN:VEVENT
DTSTART;VALUE=DATE:20260209
DTEND;VALUE=DATE:20260214
DTSTAMP:20260419T095354
CREATED:20250228T215320Z
LAST-MODIFIED:20260119T222311Z
UID:40246-1770595200-1771027199@salemk12.org
SUMMARY:School Tours Wk1-Early Childhood 2026
DESCRIPTION:
URL:https://salemk12.org/event/school-tours-wk1-early-childhood-2026/
CATEGORIES:Saltonstall School
END:VEVENT
BEGIN:VEVENT
DTSTART;TZID=America/New_York:20260211T170000
DTEND;TZID=America/New_York:20260211T190000
DTSTAMP:20260419T095354
CREATED:20250228T215320Z
LAST-MODIFIED:20260119T222311Z
UID:40245-1770829200-1770836400@salemk12.org
SUMMARY:Snow Day for Meet & Greet-Early Childhood Expo2026
DESCRIPTION:
URL:https://salemk12.org/event/snow-day-for-meet-greet-early-childhood-expo2026/
CATEGORIES:Saltonstall School
END:VEVENT
BEGIN:VEVENT
DTSTART;VALUE=DATE:20260309
DTEND;VALUE=DATE:20260314
DTSTAMP:20260419T095354
CREATED:20250228T215320Z
LAST-MODIFIED:20260313T235302Z
UID:40247-1773014400-1773446399@salemk12.org
SUMMARY:School Tours Wk2-Early Childhood 2026
DESCRIPTION:
URL:https://salemk12.org/event/school-tours-wk2-early-childhood-2026/
CATEGORIES:Saltonstall School
END:VEVENT
END:VCALENDAR